BEGIN:VCALENDAR
VERSION:2.0
PRODID:-//Pahrump Valley Community News - ECPv6.15.20//NONSGML v1.0//EN
CALSCALE:GREGORIAN
METHOD:PUBLISH
X-ORIGINAL-URL:https://pvc.news
X-WR-CALDESC:Events for Pahrump Valley Community News
REFRESH-INTERVAL;VALUE=DURATION:PT1H
X-Robots-Tag:noindex
X-PUBLISHED-TTL:PT1H
BEGIN:VTIMEZONE
TZID:America/Los_Angeles
BEGIN:DAYLIGHT
TZOFFSETFROM:-0800
TZOFFSETTO:-0700
TZNAME:PDT
DTSTART:20240310T100000
END:DAYLIGHT
BEGIN:STANDARD
TZOFFSETFROM:-0700
TZOFFSETTO:-0800
TZNAME:PST
DTSTART:20241103T090000
END:STANDARD
BEGIN:DAYLIGHT
TZOFFSETFROM:-0800
TZOFFSETTO:-0700
TZNAME:PDT
DTSTART:20250309T100000
END:DAYLIGHT
BEGIN:STANDARD
TZOFFSETFROM:-0700
TZOFFSETTO:-0800
TZNAME:PST
DTSTART:20251102T090000
END:STANDARD
BEGIN:DAYLIGHT
TZOFFSETFROM:-0800
TZOFFSETTO:-0700
TZNAME:PDT
DTSTART:20260308T100000
END:DAYLIGHT
BEGIN:STANDARD
TZOFFSETFROM:-0700
TZOFFSETTO:-0800
TZNAME:PST
DTSTART:20261101T090000
END:STANDARD
END:VTIMEZONE
BEGIN:VEVENT
DTSTART;TZID=America/Los_Angeles:20250704T090000
DTEND;TZID=America/Los_Angeles:20250704T130000
DTSTAMP:20260421T204545
CREATED:20250522T025135Z
LAST-MODIFIED:20250522T025135Z
UID:17247-1751619600-1751634000@pvc.news
SUMMARY:Free 4th of July Celebration
DESCRIPTION:Parade starts at 9a.m. \nEnjoy food\, fun and games after the Parade. All Free courtesy of Holiday Task Force and P.D.O.P
URL:https://pvc.news/event/free-4th-of-july-celebration/
LOCATION:Calvada Eye
CATEGORIES:Community
ATTACH;FMTTYPE=image/jpeg:https://pvc.news/wp-content/uploads/2025/05/4th-of-July.jpg
END:VEVENT
END:VCALENDAR